BEGIN:VCALENDAR
VERSION:2.0
PRODID:-//Metropolitan Kansas City - ECPv6.15.18//NONSGML v1.0//EN
CALSCALE:GREGORIAN
METHOD:PUBLISH
X-WR-CALNAME:Metropolitan Kansas City
X-ORIGINAL-URL:https://metrokcicc.org
X-WR-CALDESC:Events for Metropolitan Kansas City
REFRESH-INTERVAL;VALUE=DURATION:PT1H
X-Robots-Tag:noindex
X-PUBLISHED-TTL:PT1H
BEGIN:VTIMEZONE
TZID:UTC
BEGIN:STANDARD
TZOFFSETFROM:+0000
TZOFFSETTO:+0000
TZNAME:UTC
DTSTART:20230101T000000
END:STANDARD
END:VTIMEZONE
BEGIN:VEVENT
DTSTART;TZID=UTC:20250104T170000
DTEND;TZID=UTC:20250104T210000
DTSTAMP:20260424T055626
CREATED:20241219T201206Z
LAST-MODIFIED:20250104T033315Z
UID:408-1736010000-1736024400@metrokcicc.org
SUMMARY:(Canceled) Metro KC Chapter’s Annual Business Meeting
DESCRIPTION:This Event Has Been Canceled Due to the Expected Winter Storm This Weekend\nYou and your guest are invited to the Metro KC Chapter’s Annual Business Meeting \nThe Kitchen \nLenexa City Center \n17101 W 87th Street Parkway Lenexa\, Kansas 66219 \nPlease join us for food (BBQ)\, fun and friends. \nRSVP for dinner by 5 pm on January 3rd\, 2025 \nEmail RSVP to metrokcicc@gmail.com.
URL:https://metrokcicc.org/event/metro-kc-chapters-annual-business-meeting/
LOCATION:Lenexa City Center\, 17101 W 87th Street Parkway\, Lenexa\, KS\, 66219\, United States
END:VEVENT
BEGIN:VEVENT
DTSTART;TZID=UTC:20241218T110000
DTEND;TZID=UTC:20241218T120000
DTSTAMP:20260424T055626
CREATED:20241019T015516Z
LAST-MODIFIED:20241023T024336Z
UID:275-1734519600-1734523200@metrokcicc.org
SUMMARY:December Training
DESCRIPTION:Chapter meetings or trainings are the 3rd Wednesday of every month vitually via Webex. Join from the meeting link\nJoin from the meeting link. \nJoin by meeting number \nMeeting number (access code): 927 583 650
URL:https://metrokcicc.org/event/december-training/
ATTACH;FMTTYPE=image/jpeg:https://metrokcicc.org/wp-content/uploads/sites/23/2024/10/Kansas-City-Dec-e1729629913470.jpg
END:VEVENT
BEGIN:VEVENT
DTSTART;TZID=UTC:20241212T090000
DTEND;TZID=UTC:20241212T160000
DTSTAMP:20260424T055626
CREATED:20241019T015257Z
LAST-MODIFIED:20241104T224803Z
UID:272-1733994000-1734019200@metrokcicc.org
SUMMARY:2021 International Building Code Fire & Smoke Protection Virtual Training
DESCRIPTION:Training from Rob Neale\nInternational Code Council Trainer\nSponsored By Region IV of the International Code Council \nThis course addresses the critical concepts of the 2021 International Building Code® (IBC®) regarding Chapter 7\, Fire and Smoke Protection Features. These concepts provide a basis for the analysis and identification of which components require fire-resistance ratings; where the fire-resistance-rated construction is required in building construction; where smoke-resistant construction is mandated; and the use of fire door assemblies\, fire window assemblies\, penetration firestop systems\, fire dampers and smoke dampers. The participant will be able to apply the provisions of Chapter 7 of the 2021 IBC to the materials and assemblies used for structural fire resistance\, as well as the fire-resistance-rated and smoke-resistant construction separation of adjacent spaces. \nThe following publication is recommended to ensure success in the course:\n2021 International Building Code® (IBC®) \nCourse Objectives…\n\nExplain the scope of the fire-resistance-rated and smoke-resistant provisions in Chapter 7.\nDescribe the manner in which a fire-resistance rating is achieved.\nIdentify the individual building components that require a fire-resistance rating.\nIndicate how to properly protect openings and penetrations in fire-resistance-rated assemblies.\n\nContinuing Education Credit:\nParticipants can earn a total of 6 CEUs for attending. \nSign Up & Pay for Training Below\nThis training cost $35 click the link below to sign up and pay for training. Make sure to provide a valid email address. \nSign Up for Training  \nMore Information or Questions:\nContact David Byl with questions about this opportunity. He can be reached at 913.477.7722 or via email at dbyl@lenexa.com. Or visit the Metropolitan KC Chapter ICC web site at metrokcicc.org to leave a message or metrokcicc@gmail.com and someone will get back to you.
URL:https://metrokcicc.org/event/2021-international-building-code-fire-smoke-protection-virtual-training/
ATTACH;FMTTYPE=image/png:https://metrokcicc.org/wp-content/uploads/sites/23/2024/10/2021-International-Building-Code-Fire-Smoke-Protection-Virtual-Training-e1729630011576.png
END:VEVENT
BEGIN:VEVENT
DTSTART;TZID=UTC:20241120T110000
DTEND;TZID=UTC:20241120T120000
DTSTAMP:20260424T055626
CREATED:20241019T013513Z
LAST-MODIFIED:20241023T024202Z
UID:271-1732100400-1732104000@metrokcicc.org
SUMMARY:November Training
DESCRIPTION:Chapter meetings or trainings are the 3rd Wednesday of every month vitually via Webex.\nJoin from this meeting link. \nJoin by meeting number \nMeeting number (access code): 927 583 650
URL:https://metrokcicc.org/event/november-training/
ATTACH;FMTTYPE=image/jpeg:https://metrokcicc.org/wp-content/uploads/sites/23/2024/04/aerial-view-of-kansas-city-at-warm-sunrise-in-miss-2023-11-27-05-28-48-utc-e1729629965981.jpg
END:VEVENT
BEGIN:VEVENT
DTSTART;TZID=UTC:20241113T090000
DTEND;TZID=UTC:20241113T160000
DTSTAMP:20260424T055626
CREATED:20241019T012132Z
LAST-MODIFIED:20241019T013031Z
UID:268-1731488400-1731513600@metrokcicc.org
SUMMARY:International Building Code Apartment Building Training
DESCRIPTION:The design and construction of apartment buildings requires the application of both fundamental and unique IBC requirements. This seminar focuses on those provisions that are commonly encountered in these types of residential buildings. Provisions specific to residential building classification\, fire-resistance\, fire protection\, means of egress and accessibility will be addressed. In addition\, detailed provisions discussed will include podium buildings\, occupied roofs\, incidental uses and dwelling unit separations. \nHybrid In-Person or Virtual \nSponsored By\nMetropolitan Kansas City Chapter of ICC\n6.00 CEUs \n  \nCourse Information:\nObjectives:\n\nIdentify those IBC nonstructural requirements that are typically applicable to apartment buildings classified as Group R-2 occupancies.\nEstablish a methodology for the review and application of the IBC provisions as they relate to the design\, plan review and inspection of apartment buildings.\nDescribe why the IBC requirements that are specific to apartment buildings differ from the requirements applicable to other types of buildings.\nDetermine the extent of accessibility required in apartment buildings.\n\nContinuing Education Credit:\n\nParticipants can earn a total of 6 CEUs for attending.\n\nFees\n\nInclude instruction and break refreshments in morning and afternoon. Lunch will not be provided. Lunch options are available at the City Center Market located in City Hall and surrounding area.\nThe fee for this training is $50\n\nPay for Training Below:\nMake sure to provide a valid email address. \nSign Up for Training  \n  \nMore Information or Questions:\nContact David Byl with questions about this opportunity. He can be reached at 913.477.7722 or via email at dbyl@lenexa.com. Or visit the Metropolitan KC Chapter ICC web site at metrokcicc.org to leave a message or metrokcicc@gmail.com and someone will get back to you. \nParking is available in the parking garage to the south of city hall (turn on Winchester Street). Please do not park along 87th street in front of city hall.
URL:https://metrokcicc.org/event/international-building-code-apartment-building-training/
LOCATION:Lenexa City Hall\, 17101 W 87th St Parkway\, Lenexa\, KS\, 66219\, United States
ATTACH;FMTTYPE=image/png:https://metrokcicc.org/wp-content/uploads/sites/23/2024/10/International-Building-Code-Apartment-Building-Training-e1729630046139.png
END:VEVENT
BEGIN:VEVENT
DTSTART;TZID=UTC:20241001T113000
DTEND;TZID=UTC:20241001T133000
DTSTAMP:20260424T055626
CREATED:20240425T001225Z
LAST-MODIFIED:20240508T223653Z
UID:42-1727782200-1727789400@metrokcicc.org
SUMMARY:2024 ICC OEC Code Committee
DESCRIPTION:This is where we will have a description of your event so people can learn more.
URL:https://metrokcicc.org/event/2024-icc-oec-code-committee/
LOCATION:Chapter\, 602 Robert D Ray Drive\, Des Moines\, IA\, 50309
ATTACH;FMTTYPE=image/jpeg:https://metrokcicc.org/wp-content/uploads/sites/23/2024/04/placeholder-hero-image.jpg
END:VEVENT
END:VCALENDAR